BEGIN:VCALENDAR
VERSION:2.0
PRODID:-//wp-events-plugin.com//7.2.3.1//EN
BEGIN:VEVENT
UID:12@trongsa.gov.bt
DTSTART:20250602T080000Z
DTEND:20250602T113000Z
DTSTAMP:20250604T062809Z
URL:https://trongsa.gov.bt/events/marathon-2025-celebrating-civil-service-
 wellness-day-for-healthy-civil-service-healthy-nation/
SUMMARY:Social Forestry Day and commemorate the coronation of His Majesty t
 he Fourth Druk Gyalpo
DESCRIPTION:To mark Social Forestry Day and commemorate the coronation of H
 is Majesty the Fourth Druk Gyalpo\, the Dzongkhag Administration organized
  a tree plantation program in and around the Dzong and Thruepang palace pr
 emises\, reaffirming our collective commitment to environmental conservati
 on and sustainable development.
ATTACH;FMTTYPE=image/jpeg:https://trongsa.gov.bt/wp-content/uploads/2025/0
 5/503582021_1007012921618195_1067798833891670401_n.jpg
CATEGORIES:Culture
LOCATION:Trongsa\, trongsa dzong\, trongsa dzong\, Bhutan
X-APPLE-STRUCTURED-LOCATION;VALUE=URI;X-ADDRESS=trongsa dzong\, trongsa dzo
 ng\, Bhutan;X-APPLE-RADIUS=100;X-TITLE=Trongsa:geo:0,0
END:VEVENT
END:VCALENDAR